BEGIN:VCALENDAR
VERSION:2.0
PRODID:-//Dorothea&#039;s House - ECPv6.15.20//NONSGML v1.0//EN
CALSCALE:GREGORIAN
METHOD:PUBLISH
X-WR-CALNAME:Dorothea&#039;s House
X-ORIGINAL-URL:https://dorotheashouse.org
X-WR-CALDESC:Events for Dorothea&#039;s House
REFRESH-INTERVAL;VALUE=DURATION:PT1H
X-Robots-Tag:noindex
X-PUBLISHED-TTL:PT1H
BEGIN:VTIMEZONE
TZID:America/New_York
BEGIN:DAYLIGHT
TZOFFSETFROM:-0500
TZOFFSETTO:-0400
TZNAME:EDT
DTSTART:20250309T070000
END:DAYLIGHT
BEGIN:STANDARD
TZOFFSETFROM:-0400
TZOFFSETTO:-0500
TZNAME:EST
DTSTART:20251102T060000
END:STANDARD
BEGIN:DAYLIGHT
TZOFFSETFROM:-0500
TZOFFSETTO:-0400
TZNAME:EDT
DTSTART:20260308T070000
END:DAYLIGHT
BEGIN:STANDARD
TZOFFSETFROM:-0400
TZOFFSETTO:-0500
TZNAME:EST
DTSTART:20261101T060000
END:STANDARD
BEGIN:DAYLIGHT
TZOFFSETFROM:-0500
TZOFFSETTO:-0400
TZNAME:EDT
DTSTART:20270314T070000
END:DAYLIGHT
BEGIN:STANDARD
TZOFFSETFROM:-0400
TZOFFSETTO:-0500
TZNAME:EST
DTSTART:20271107T060000
END:STANDARD
END:VTIMEZONE
BEGIN:VEVENT
DTSTART;TZID=America/New_York:20260503T180000
DTEND;TZID=America/New_York:20260503T200000
DTSTAMP:20260422T040002
CREATED:20250827T025842Z
LAST-MODIFIED:20260419T004629Z
UID:1104-1777831200-1777838400@dorotheashouse.org
SUMMARY:End of Year Celebration
DESCRIPTION:Join us for a festive evening as we celebrate the end of another fantastic season. Enjoy a lively performance by D’Italia\, a singing and dancing ensemble\, who will delight you with Italian favorites ranging from Puccini to Sinatra\, with plenty of folk songs\, traditional dances\, and surprises in between.
URL:https://dorotheashouse.org/event/end-of-year-celebration/
END:VEVENT
END:VCALENDAR